BEGIN:VCALENDAR
VERSION:2.0
PRODID:-//Woodbury, Vermont - ECPv6.15.17.1//NONSGML v1.0//EN
CALSCALE:GREGORIAN
METHOD:PUBLISH
X-ORIGINAL-URL:https://woodburyvt.org
X-WR-CALDESC:Events for Woodbury, Vermont
REFRESH-INTERVAL;VALUE=DURATION:PT1H
X-Robots-Tag:noindex
X-PUBLISHED-TTL:PT1H
BEGIN:VTIMEZONE
TZID:America/New_York
BEGIN:DAYLIGHT
TZOFFSETFROM:-0500
TZOFFSETTO:-0400
TZNAME:EDT
DTSTART:20240310T070000
END:DAYLIGHT
BEGIN:STANDARD
TZOFFSETFROM:-0400
TZOFFSETTO:-0500
TZNAME:EST
DTSTART:20241103T060000
END:STANDARD
BEGIN:DAYLIGHT
TZOFFSETFROM:-0500
TZOFFSETTO:-0400
TZNAME:EDT
DTSTART:20250309T070000
END:DAYLIGHT
BEGIN:STANDARD
TZOFFSETFROM:-0400
TZOFFSETTO:-0500
TZNAME:EST
DTSTART:20251102T060000
END:STANDARD
BEGIN:DAYLIGHT
TZOFFSETFROM:-0500
TZOFFSETTO:-0400
TZNAME:EDT
DTSTART:20260308T070000
END:DAYLIGHT
BEGIN:STANDARD
TZOFFSETFROM:-0400
TZOFFSETTO:-0500
TZNAME:EST
DTSTART:20261101T060000
END:STANDARD
END:VTIMEZONE
BEGIN:VEVENT
DTSTART;TZID=America/New_York:20251020T180000
DTEND;TZID=America/New_York:20251020T200000
DTSTAMP:20260423T030709
CREATED:20250709T143643Z
LAST-MODIFIED:20250711T012334Z
UID:10001156-1760983200-1760990400@woodburyvt.org
SUMMARY:Planning Commission
DESCRIPTION:
URL:https://woodburyvt.org/event/planning-commission-7/2025-10-20/
LOCATION:Woodbury Library Community Room\, 69 Valley Lake Road\, Woodbury\, VT\, 05681\, United States
CATEGORIES:Planning Commission Meetings
END:VEVENT
BEGIN:VEVENT
DTSTART;TZID=America/New_York:20250915T180000
DTEND;TZID=America/New_York:20250915T200000
DTSTAMP:20260423T030709
CREATED:20250709T143643Z
LAST-MODIFIED:20250711T012334Z
UID:10001155-1757959200-1757966400@woodburyvt.org
SUMMARY:Planning Commission
DESCRIPTION:
URL:https://woodburyvt.org/event/planning-commission-7/2025-09-15/
LOCATION:Woodbury Library Community Room\, 69 Valley Lake Road\, Woodbury\, VT\, 05681\, United States
CATEGORIES:Planning Commission Meetings
END:VEVENT
BEGIN:VEVENT
DTSTART;TZID=America/New_York:20250818T180000
DTEND;TZID=America/New_York:20250818T200000
DTSTAMP:20260423T030709
CREATED:20250709T143643Z
LAST-MODIFIED:20250711T012334Z
UID:10001154-1755540000-1755547200@woodburyvt.org
SUMMARY:Planning Commission
DESCRIPTION:
URL:https://woodburyvt.org/event/planning-commission-7/2025-08-18/
LOCATION:Woodbury Library Community Room\, 69 Valley Lake Road\, Woodbury\, VT\, 05681\, United States
CATEGORIES:Planning Commission Meetings
END:VEVENT
BEGIN:VEVENT
DTSTART;TZID=America/New_York:20250721T180000
DTEND;TZID=America/New_York:20250721T200000
DTSTAMP:20260423T030709
CREATED:20250709T143643Z
LAST-MODIFIED:20250711T012334Z
UID:10001153-1753120800-1753128000@woodburyvt.org
SUMMARY:Planning Commission
DESCRIPTION:
URL:https://woodburyvt.org/event/planning-commission-7/2025-07-21/
LOCATION:Woodbury Library Community Room\, 69 Valley Lake Road\, Woodbury\, VT\, 05681\, United States
CATEGORIES:Planning Commission Meetings
END:VEVENT
BEGIN:VEVENT
DTSTART;TZID=America/New_York:20250616T180000
DTEND;TZID=America/New_York:20250616T200000
DTSTAMP:20260423T030709
CREATED:20241231T231905Z
LAST-MODIFIED:20250101T041054Z
UID:10001041-1750096800-1750104000@woodburyvt.org
SUMMARY:Planning Commission
DESCRIPTION:
URL:https://woodburyvt.org/event/planning-commission-6/
LOCATION:Woodbury Library Community Room\, 69 Valley Lake Road\, Woodbury\, VT\, 05681\, United States
END:VEVENT
BEGIN:VEVENT
DTSTART;TZID=America/New_York:20250519T180000
DTEND;TZID=America/New_York:20250519T200000
DTSTAMP:20260423T030709
CREATED:20241231T231740Z
LAST-MODIFIED:20250101T041228Z
UID:10001040-1747677600-1747684800@woodburyvt.org
SUMMARY:Planning Commission
DESCRIPTION:
URL:https://woodburyvt.org/event/planning-commission-5/
LOCATION:Woodbury Library Community Room\, 69 Valley Lake Road\, Woodbury\, VT\, 05681\, United States
END:VEVENT
END:VCALENDAR