BEGIN:VCALENDAR
VERSION:2.0
PRODID:-//Woodbury, Vermont - ECPv6.15.17.1//NONSGML v1.0//EN
CALSCALE:GREGORIAN
METHOD:PUBLISH
X-WR-CALNAME:Woodbury, Vermont
X-ORIGINAL-URL:https://woodburyvt.org
X-WR-CALDESC:Events for Woodbury, Vermont
REFRESH-INTERVAL;VALUE=DURATION:PT1H
X-Robots-Tag:noindex
X-PUBLISHED-TTL:PT1H
BEGIN:VTIMEZONE
TZID:America/New_York
BEGIN:DAYLIGHT
TZOFFSETFROM:-0500
TZOFFSETTO:-0400
TZNAME:EDT
DTSTART:20250309T070000
END:DAYLIGHT
BEGIN:STANDARD
TZOFFSETFROM:-0400
TZOFFSETTO:-0500
TZNAME:EST
DTSTART:20251102T060000
END:STANDARD
BEGIN:DAYLIGHT
TZOFFSETFROM:-0500
TZOFFSETTO:-0400
TZNAME:EDT
DTSTART:20260308T070000
END:DAYLIGHT
BEGIN:STANDARD
TZOFFSETFROM:-0400
TZOFFSETTO:-0500
TZNAME:EST
DTSTART:20261101T060000
END:STANDARD
BEGIN:DAYLIGHT
TZOFFSETFROM:-0500
TZOFFSETTO:-0400
TZNAME:EDT
DTSTART:20270314T070000
END:DAYLIGHT
BEGIN:STANDARD
TZOFFSETFROM:-0400
TZOFFSETTO:-0500
TZNAME:EST
DTSTART:20271107T060000
END:STANDARD
BEGIN:DAYLIGHT
TZOFFSETFROM:-0500
TZOFFSETTO:-0400
TZNAME:EDT
DTSTART:20280312T070000
END:DAYLIGHT
BEGIN:STANDARD
TZOFFSETFROM:-0400
TZOFFSETTO:-0500
TZNAME:EST
DTSTART:20281105T060000
END:STANDARD
END:VTIMEZONE
BEGIN:VEVENT
DTSTART;TZID=America/New_York:20261013T180000
DTEND;TZID=America/New_York:20261013T200000
DTSTAMP:20260421T221757
CREATED:20250709T144424Z
LAST-MODIFIED:20250712T150803Z
UID:10001199-1791914400-1791921600@woodburyvt.org
SUMMARY:Mountain View Union Elementary School Board
DESCRIPTION:
URL:https://woodburyvt.org/event/mountain-view-union-elementary-school-board/2026-10-13/
LOCATION:Alternating at Woodbury\, Hardwick & Greensboro schools.
CATEGORIES:Elementary School Board Meetings
END:VEVENT
BEGIN:VEVENT
DTSTART;TZID=America/New_York:20261110T180000
DTEND;TZID=America/New_York:20261110T200000
DTSTAMP:20260421T221757
CREATED:20250709T144424Z
LAST-MODIFIED:20250712T150803Z
UID:10001200-1794333600-1794340800@woodburyvt.org
SUMMARY:Mountain View Union Elementary School Board
DESCRIPTION:
URL:https://woodburyvt.org/event/mountain-view-union-elementary-school-board/2026-11-10/
LOCATION:Alternating at Woodbury\, Hardwick & Greensboro schools.
CATEGORIES:Elementary School Board Meetings
END:VEVENT
BEGIN:VEVENT
DTSTART;TZID=America/New_York:20261208T180000
DTEND;TZID=America/New_York:20261208T200000
DTSTAMP:20260421T221757
CREATED:20250709T144424Z
LAST-MODIFIED:20250712T150803Z
UID:10001201-1796752800-1796760000@woodburyvt.org
SUMMARY:Mountain View Union Elementary School Board
DESCRIPTION:
URL:https://woodburyvt.org/event/mountain-view-union-elementary-school-board/2026-12-08/
LOCATION:Alternating at Woodbury\, Hardwick & Greensboro schools.
CATEGORIES:Elementary School Board Meetings
END:VEVENT
BEGIN:VEVENT
DTSTART;TZID=America/New_York:20270112T180000
DTEND;TZID=America/New_York:20270112T200000
DTSTAMP:20260421T221757
CREATED:20250709T144424Z
LAST-MODIFIED:20250712T150803Z
UID:10001202-1799776800-1799784000@woodburyvt.org
SUMMARY:Mountain View Union Elementary School Board
DESCRIPTION:
URL:https://woodburyvt.org/event/mountain-view-union-elementary-school-board/2027-01-12/
LOCATION:Alternating at Woodbury\, Hardwick & Greensboro schools.
CATEGORIES:Elementary School Board Meetings
END:VEVENT
BEGIN:VEVENT
DTSTART;TZID=America/New_York:20270209T180000
DTEND;TZID=America/New_York:20270209T200000
DTSTAMP:20260421T221757
CREATED:20250709T144424Z
LAST-MODIFIED:20250712T150803Z
UID:10001203-1802196000-1802203200@woodburyvt.org
SUMMARY:Mountain View Union Elementary School Board
DESCRIPTION:
URL:https://woodburyvt.org/event/mountain-view-union-elementary-school-board/2027-02-09/
LOCATION:Alternating at Woodbury\, Hardwick & Greensboro schools.
CATEGORIES:Elementary School Board Meetings
END:VEVENT
BEGIN:VEVENT
DTSTART;TZID=America/New_York:20270309T180000
DTEND;TZID=America/New_York:20270309T200000
DTSTAMP:20260421T221757
CREATED:20250709T144424Z
LAST-MODIFIED:20250712T150803Z
UID:10001204-1804615200-1804622400@woodburyvt.org
SUMMARY:Mountain View Union Elementary School Board
DESCRIPTION:
URL:https://woodburyvt.org/event/mountain-view-union-elementary-school-board/2027-03-09/
LOCATION:Alternating at Woodbury\, Hardwick & Greensboro schools.
CATEGORIES:Elementary School Board Meetings
END:VEVENT
BEGIN:VEVENT
DTSTART;TZID=America/New_York:20270413T180000
DTEND;TZID=America/New_York:20270413T200000
DTSTAMP:20260421T221757
CREATED:20250709T144424Z
LAST-MODIFIED:20250712T150803Z
UID:10001205-1807639200-1807646400@woodburyvt.org
SUMMARY:Mountain View Union Elementary School Board
DESCRIPTION:
URL:https://woodburyvt.org/event/mountain-view-union-elementary-school-board/2027-04-13/
LOCATION:Alternating at Woodbury\, Hardwick & Greensboro schools.
CATEGORIES:Elementary School Board Meetings
END:VEVENT
BEGIN:VEVENT
DTSTART;TZID=America/New_York:20270511T180000
DTEND;TZID=America/New_York:20270511T200000
DTSTAMP:20260421T221757
CREATED:20250709T144424Z
LAST-MODIFIED:20250712T150803Z
UID:10001206-1810058400-1810065600@woodburyvt.org
SUMMARY:Mountain View Union Elementary School Board
DESCRIPTION:
URL:https://woodburyvt.org/event/mountain-view-union-elementary-school-board/2027-05-11/
LOCATION:Alternating at Woodbury\, Hardwick & Greensboro schools.
CATEGORIES:Elementary School Board Meetings
END:VEVENT
BEGIN:VEVENT
DTSTART;TZID=America/New_York:20270608T180000
DTEND;TZID=America/New_York:20270608T200000
DTSTAMP:20260421T221757
CREATED:20250709T144424Z
LAST-MODIFIED:20250712T150803Z
UID:10001207-1812477600-1812484800@woodburyvt.org
SUMMARY:Mountain View Union Elementary School Board
DESCRIPTION:
URL:https://woodburyvt.org/event/mountain-view-union-elementary-school-board/2027-06-08/
LOCATION:Alternating at Woodbury\, Hardwick & Greensboro schools.
CATEGORIES:Elementary School Board Meetings
END:VEVENT
BEGIN:VEVENT
DTSTART;TZID=America/New_York:20270713T180000
DTEND;TZID=America/New_York:20270713T200000
DTSTAMP:20260421T221757
CREATED:20250709T144424Z
LAST-MODIFIED:20250712T150803Z
UID:10001208-1815501600-1815508800@woodburyvt.org
SUMMARY:Mountain View Union Elementary School Board
DESCRIPTION:
URL:https://woodburyvt.org/event/mountain-view-union-elementary-school-board/2027-07-13/
LOCATION:Alternating at Woodbury\, Hardwick & Greensboro schools.
CATEGORIES:Elementary School Board Meetings
END:VEVENT
BEGIN:VEVENT
DTSTART;TZID=America/New_York:20270810T180000
DTEND;TZID=America/New_York:20270810T200000
DTSTAMP:20260421T221757
CREATED:20250709T144424Z
LAST-MODIFIED:20250712T150803Z
UID:10001209-1817920800-1817928000@woodburyvt.org
SUMMARY:Mountain View Union Elementary School Board
DESCRIPTION:
URL:https://woodburyvt.org/event/mountain-view-union-elementary-school-board/2027-08-10/
LOCATION:Alternating at Woodbury\, Hardwick & Greensboro schools.
CATEGORIES:Elementary School Board Meetings
END:VEVENT
BEGIN:VEVENT
DTSTART;TZID=America/New_York:20270914T180000
DTEND;TZID=America/New_York:20270914T200000
DTSTAMP:20260421T221757
CREATED:20250709T144424Z
LAST-MODIFIED:20250712T150803Z
UID:10001210-1820944800-1820952000@woodburyvt.org
SUMMARY:Mountain View Union Elementary School Board
DESCRIPTION:
URL:https://woodburyvt.org/event/mountain-view-union-elementary-school-board/2027-09-14/
LOCATION:Alternating at Woodbury\, Hardwick & Greensboro schools.
CATEGORIES:Elementary School Board Meetings
END:VEVENT
BEGIN:VEVENT
DTSTART;TZID=America/New_York:20271012T180000
DTEND;TZID=America/New_York:20271012T200000
DTSTAMP:20260421T221757
CREATED:20250709T144424Z
LAST-MODIFIED:20250712T150803Z
UID:10001211-1823364000-1823371200@woodburyvt.org
SUMMARY:Mountain View Union Elementary School Board
DESCRIPTION:
URL:https://woodburyvt.org/event/mountain-view-union-elementary-school-board/2027-10-12/
LOCATION:Alternating at Woodbury\, Hardwick & Greensboro schools.
CATEGORIES:Elementary School Board Meetings
END:VEVENT
END:VCALENDAR