BEGIN:VCALENDAR
VERSION:2.0
PRODID:-//Woodbury, Vermont - ECPv6.15.17.1//NONSGML v1.0//EN
CALSCALE:GREGORIAN
METHOD:PUBLISH
X-ORIGINAL-URL:https://woodburyvt.org
X-WR-CALDESC:Events for Woodbury, Vermont
REFRESH-INTERVAL;VALUE=DURATION:PT1H
X-Robots-Tag:noindex
X-PUBLISHED-TTL:PT1H
BEGIN:VTIMEZONE
TZID:America/New_York
BEGIN:DAYLIGHT
TZOFFSETFROM:-0500
TZOFFSETTO:-0400
TZNAME:EDT
DTSTART:20240310T070000
END:DAYLIGHT
BEGIN:STANDARD
TZOFFSETFROM:-0400
TZOFFSETTO:-0500
TZNAME:EST
DTSTART:20241103T060000
END:STANDARD
BEGIN:DAYLIGHT
TZOFFSETFROM:-0500
TZOFFSETTO:-0400
TZNAME:EDT
DTSTART:20250309T070000
END:DAYLIGHT
BEGIN:STANDARD
TZOFFSETFROM:-0400
TZOFFSETTO:-0500
TZNAME:EST
DTSTART:20251102T060000
END:STANDARD
BEGIN:DAYLIGHT
TZOFFSETFROM:-0500
TZOFFSETTO:-0400
TZNAME:EDT
DTSTART:20260308T070000
END:DAYLIGHT
BEGIN:STANDARD
TZOFFSETFROM:-0400
TZOFFSETTO:-0500
TZNAME:EST
DTSTART:20261101T060000
END:STANDARD
END:VTIMEZONE
BEGIN:VEVENT
DTSTART;TZID=America/New_York:20251229T170000
DTEND;TZID=America/New_York:20251229T190000
DTSTAMP:20260421T122429
CREATED:20251228T003530Z
LAST-MODIFIED:20251228T003530Z
UID:10001357-1767027600-1767034800@woodburyvt.org
SUMMARY:Select Board - AGENDA
DESCRIPTION:
URL:https://woodburyvt.org/event/select-board-agenda-4-2/
LOCATION:Woodbury Town Office\, 1672 VT Route 14\, Woodbury\, 05681
CATEGORIES:Select Board Meetings
END:VEVENT
BEGIN:VEVENT
DTSTART;TZID=America/New_York:20251222T180000
DTEND;TZID=America/New_York:20251222T200000
DTSTAMP:20260421T122430
CREATED:20251219T225504Z
LAST-MODIFIED:20251219T230126Z
UID:10001104-1766426400-1766433600@woodburyvt.org
SUMMARY:Select Board - AGENDA
DESCRIPTION:
URL:https://woodburyvt.org/event/select-board-22/
LOCATION:Woodbury Library Community Room\, 69 Valley Lake Road\, Woodbury\, VT\, 05681\, United States
CATEGORIES:Select Board Meetings
END:VEVENT
BEGIN:VEVENT
DTSTART;TZID=America/New_York:20251215T170000
DTEND;TZID=America/New_York:20251215T190000
DTSTAMP:20260421T122430
CREATED:20251213T181239Z
LAST-MODIFIED:20251213T181239Z
UID:10001288-1765818000-1765825200@woodburyvt.org
SUMMARY:Select Board - AGENDA
DESCRIPTION:
URL:https://woodburyvt.org/event/select-board-agenda-3/
LOCATION:Woodbury Town Office\, 1672 VT Route 14\, Woodbury\, 05681
CATEGORIES:Select Board Meetings
END:VEVENT
BEGIN:VEVENT
DTSTART;TZID=America/New_York:20251208T180000
DTEND;TZID=America/New_York:20251208T200000
DTSTAMP:20260421T122430
CREATED:20251206T141824Z
LAST-MODIFIED:20251206T141824Z
UID:10001127-1765216800-1765224000@woodburyvt.org
SUMMARY:Select Board - AGENDA
DESCRIPTION:
URL:https://woodburyvt.org/event/select-board-21/
LOCATION:Woodbury Library Community Room\, 69 Valley Lake Road\, Woodbury\, VT\, 05681\, United States
CATEGORIES:Select Board Meetings
END:VEVENT
BEGIN:VEVENT
DTSTART;TZID=America/New_York:20251124T180000
DTEND;TZID=America/New_York:20251124T200000
DTSTAMP:20260421T122430
CREATED:20251123T033515Z
LAST-MODIFIED:20251123T033515Z
UID:10001103-1764007200-1764014400@woodburyvt.org
SUMMARY:Select Board - AGENDA
DESCRIPTION:
URL:https://woodburyvt.org/event/select-board-20/
LOCATION:Woodbury Library Community Room\, 69 Valley Lake Road\, Woodbury\, VT\, 05681\, United States
CATEGORIES:Select Board Meetings
END:VEVENT
BEGIN:VEVENT
DTSTART;TZID=America/New_York:20251110T180000
DTEND;TZID=America/New_York:20251110T200000
DTSTAMP:20260421T122430
CREATED:20251107T210954Z
LAST-MODIFIED:20251107T210955Z
UID:10001126-1762797600-1762804800@woodburyvt.org
SUMMARY:Select Board - AGENDA
DESCRIPTION:
URL:https://woodburyvt.org/event/select-board-19/
LOCATION:Woodbury Library Community Room\, 69 Valley Lake Road\, Woodbury\, VT\, 05681\, United States
CATEGORIES:Select Board Meetings
END:VEVENT
BEGIN:VEVENT
DTSTART;TZID=America/New_York:20251027T180000
DTEND;TZID=America/New_York:20251027T200000
DTSTAMP:20260421T122430
CREATED:20251020T134544Z
LAST-MODIFIED:20251024T223201Z
UID:10001102-1761588000-1761595200@woodburyvt.org
SUMMARY:Select Board
DESCRIPTION:
URL:https://woodburyvt.org/event/select-board-18/
LOCATION:Woodbury Library Community Room\, 69 Valley Lake Road\, Woodbury\, VT\, 05681\, United States
CATEGORIES:Select Board Meetings
END:VEVENT
BEGIN:VEVENT
DTSTART;TZID=America/New_York:20251016T173000
DTEND;TZID=America/New_York:20251016T190000
DTSTAMP:20260421T122430
CREATED:20250709T143116Z
LAST-MODIFIED:20251014T215602Z
UID:10001101-1760635800-1760641200@woodburyvt.org
SUMMARY:Select Board - AGENDA
DESCRIPTION:
URL:https://woodburyvt.org/event/select-board-15-2025-08-11-2025-09-08-2025-10-13/
LOCATION:Woodbury Town Office\, 1672 VT Route 14\, Woodbury\, 05681
CATEGORIES:Select Board Meetings
END:VEVENT
BEGIN:VEVENT
DTSTART;TZID=America/New_York:20250922T180000
DTEND;TZID=America/New_York:20250922T200000
DTSTAMP:20260421T122430
CREATED:20250709T143235Z
LAST-MODIFIED:20250920T155317Z
UID:10001152-1758564000-1758571200@woodburyvt.org
SUMMARY:Select Board - AGENDA
DESCRIPTION:
URL:https://woodburyvt.org/event/select-board-16-2025-08-25-2025-09-22/
LOCATION:Woodbury Town Office\, 1672 VT Route 14\, Woodbury\, 05681
CATEGORIES:Select Board Meetings
END:VEVENT
BEGIN:VEVENT
DTSTART;TZID=America/New_York:20250908T180000
DTEND;TZID=America/New_York:20250908T200000
DTSTAMP:20260421T122430
CREATED:20250709T143116Z
LAST-MODIFIED:20250906T131622Z
UID:10001100-1757354400-1757361600@woodburyvt.org
SUMMARY:Select Board - AGENDA
DESCRIPTION:
URL:https://woodburyvt.org/event/select-board-15-2025-08-11-2025-09-08/
LOCATION:Woodbury Library Community Room\, 69 Valley Lake Road\, Woodbury\, VT\, 05681\, United States
CATEGORIES:Select Board Meetings
END:VEVENT
BEGIN:VEVENT
DTSTART;TZID=America/New_York:20250825T180000
DTEND;TZID=America/New_York:20250825T200000
DTSTAMP:20260421T122430
CREATED:20250709T143235Z
LAST-MODIFIED:20250826T114550Z
UID:10001151-1756144800-1756152000@woodburyvt.org
SUMMARY:Select Board - AGENDA
DESCRIPTION:
URL:https://woodburyvt.org/event/select-board-16-2025-08-25/
LOCATION:Woodbury Town Office\, 1672 VT Route 14\, Woodbury\, 05681
CATEGORIES:Select Board Meetings
END:VEVENT
BEGIN:VEVENT
DTSTART;TZID=America/New_York:20250818T180000
DTEND;TZID=America/New_York:20250818T200000
DTSTAMP:20260421T122430
CREATED:20250812T150121Z
LAST-MODIFIED:20250812T150400Z
UID:10000867-1755540000-1755547200@woodburyvt.org
SUMMARY:Select Board - AGENDA
DESCRIPTION:
URL:https://woodburyvt.org/event/select-board-agenda-2/
LOCATION:VT
CATEGORIES:Select Board Meetings
END:VEVENT
BEGIN:VEVENT
DTSTART;TZID=America/New_York:20250811T180000
DTEND;TZID=America/New_York:20250811T200000
DTSTAMP:20260421T122430
CREATED:20250709T143116Z
LAST-MODIFIED:20250826T114342Z
UID:10001099-1754935200-1754942400@woodburyvt.org
SUMMARY:Select Board - AGENDA
DESCRIPTION:
URL:https://woodburyvt.org/event/select-board-15-2025-08-11/
LOCATION:Woodbury Library Community Room\, 69 Valley Lake Road\, Woodbury\, VT\, 05681\, United States
CATEGORIES:Select Board Meetings
END:VEVENT
BEGIN:VEVENT
DTSTART;TZID=America/New_York:20250804T170000
DTEND;TZID=America/New_York:20250804T190000
DTSTAMP:20260421T122430
CREATED:20250724T234725Z
LAST-MODIFIED:20250802T011011Z
UID:10000866-1754326800-1754334000@woodburyvt.org
SUMMARY:Select Board
DESCRIPTION:
URL:https://woodburyvt.org/event/select-board-17/
LOCATION:Woodbury Town Office\, 1672 VT Route 14\, Woodbury\, 05681
CATEGORIES:Select Board Meetings
END:VEVENT
BEGIN:VEVENT
DTSTART;TZID=America/New_York:20250728T180000
DTEND;TZID=America/New_York:20250728T200000
DTSTAMP:20260421T122430
CREATED:20250709T143235Z
LAST-MODIFIED:20250905T232357Z
UID:10001150-1753725600-1753732800@woodburyvt.org
SUMMARY:Select Board
DESCRIPTION:
URL:https://woodburyvt.org/event/select-board-16/
LOCATION:Woodbury Town Office\, 1672 VT Route 14\, Woodbury\, 05681
CATEGORIES:Select Board Meetings
END:VEVENT
BEGIN:VEVENT
DTSTART;TZID=America/New_York:20250714T180000
DTEND;TZID=America/New_York:20250714T200000
DTSTAMP:20260421T122430
CREATED:20250709T143116Z
LAST-MODIFIED:20250721T010351Z
UID:10001098-1752516000-1752523200@woodburyvt.org
SUMMARY:Select Board - AGENDA
DESCRIPTION:
URL:https://woodburyvt.org/event/select-board-15/
LOCATION:Woodbury Library Community Room\, 69 Valley Lake Road\, Woodbury\, VT\, 05681\, United States
CATEGORIES:Select Board Meetings
END:VEVENT
END:VCALENDAR